BEGIN:VCALENDAR
VERSION:2.0
PRODID:-//bda connectivity GmbH - ECPv6.10.2//NONSGML v1.0//EN
CALSCALE:GREGORIAN
METHOD:PUBLISH
X-WR-CALNAME:bda connectivity GmbH
X-ORIGINAL-URL:https://bda-connectivity.com/en/
X-WR-CALDESC:Events for bda connectivity GmbH
REFRESH-INTERVAL;VALUE=DURATION:PT1H
X-Robots-Tag:noindex
X-PUBLISHED-TTL:PT1H
BEGIN:VTIMEZONE
TZID:Europe/Berlin
BEGIN:DAYLIGHT
TZOFFSETFROM:+0100
TZOFFSETTO:+0200
TZNAME:CEST
DTSTART:20200329T010000
END:DAYLIGHT
BEGIN:STANDARD
TZOFFSETFROM:+0200
TZOFFSETTO:+0100
TZNAME:CET
DTSTART:20201025T010000
END:STANDARD
BEGIN:DAYLIGHT
TZOFFSETFROM:+0100
TZOFFSETTO:+0200
TZNAME:CEST
DTSTART:20210328T010000
END:DAYLIGHT
BEGIN:STANDARD
TZOFFSETFROM:+0200
TZOFFSETTO:+0100
TZNAME:CET
DTSTART:20211031T010000
END:STANDARD
BEGIN:DAYLIGHT
TZOFFSETFROM:+0100
TZOFFSETTO:+0200
TZNAME:CEST
DTSTART:20220327T010000
END:DAYLIGHT
BEGIN:STANDARD
TZOFFSETFROM:+0200
TZOFFSETTO:+0100
TZNAME:CET
DTSTART:20221030T010000
END:STANDARD
BEGIN:DAYLIGHT
TZOFFSETFROM:+0100
TZOFFSETTO:+0200
TZNAME:CEST
DTSTART:20230326T010000
END:DAYLIGHT
BEGIN:STANDARD
TZOFFSETFROM:+0200
TZOFFSETTO:+0100
TZNAME:CET
DTSTART:20231029T010000
END:STANDARD
BEGIN:DAYLIGHT
TZOFFSETFROM:+0100
TZOFFSETTO:+0200
TZNAME:CEST
DTSTART:20240331T010000
END:DAYLIGHT
BEGIN:STANDARD
TZOFFSETFROM:+0200
TZOFFSETTO:+0100
TZNAME:CET
DTSTART:20241027T010000
END:STANDARD
BEGIN:DAYLIGHT
TZOFFSETFROM:+0100
TZOFFSETTO:+0200
TZNAME:CEST
DTSTART:20250330T010000
END:DAYLIGHT
BEGIN:STANDARD
TZOFFSETFROM:+0200
TZOFFSETTO:+0100
TZNAME:CET
DTSTART:20251026T010000
END:STANDARD
END:VTIMEZONE
BEGIN:VEVENT
DTSTART;TZID=Europe/Berlin:20250325T090000
DTEND;TZID=Europe/Berlin:20250327T170000
DTSTAMP:20260424T123258
CREATED:20250225T131711Z
LAST-MODIFIED:20250225T133326Z
UID:11368-1742893200-1743094800@bda-connectivity.com
SUMMARY:EMC 2025
DESCRIPTION:The EMC Trade Fair 2025\, the leading exhibition and conference on electromagnetic compatibility\, will take place from March 25 to 27 in Stuttgart – and bda connectivity will be there as an exhibitor! \nVisit us at Hall C2\, Booth 212\, and connect with our experts. Mr. Bernhard Mund and Mr. Ralf Damm\, our specialists in CoMeT measurement technology\, will be happy to answer your questions. \nWe look forward to your visit and engaging discussions with you!
URL:https://bda-connectivity.com/en/event/emc-2025/
LOCATION:Messe Stuttgart\, Messepiazza 1\, Stuttgart\, 70629\, Deutschland
CATEGORIES:Fairs
ATTACH;FMTTYPE=image/png:https://bda-connectivity.com/wp-content/uploads/2024/02/Design-ohne-Titel-80.png
END:VEVENT
BEGIN:VEVENT
DTSTART;VALUE=DATE:20241112
DTEND;VALUE=DATE:20241116
DTSTAMP:20260424T123258
CREATED:20241017T111451Z
LAST-MODIFIED:20241017T113847Z
UID:11117-1731369600-1731715199@bda-connectivity.com
SUMMARY:electronica 2024
DESCRIPTION:electronica in Munich is the world’s leading trade fair for electronic components\, systems\, applications and solutions. It is the international meeting place for the industry and thus inspires as an excellent business platform\, efficient networking event\, technical product show and forum for professional exchange at the highest level. \nelectronica is a showcase for innovations and trends: it reflects the status quo and provides an outlook for the future. As a think tank\, it gives decision-makers\, engineers and developers the decisive impetus they need.
URL:https://bda-connectivity.com/en/event/electronica-2024/
LOCATION:Messe München\, München\, Deutschland
ATTACH;FMTTYPE=image/jpeg:https://bda-connectivity.com/wp-content/uploads/2019/12/electronica_647x485.jpg
ORGANIZER;CN="Messe M%C3%BCnchen":MAILTO:info@electronica.de
END:VEVENT
BEGIN:VEVENT
DTSTART;VALUE=DATE:20240514
DTEND;VALUE=DATE:20240517
DTSTAMP:20260424T123258
CREATED:20240207T104640Z
LAST-MODIFIED:20240207T110323Z
UID:10663-1715644800-1715903999@bda-connectivity.com
SUMMARY:AngaCom 2024
DESCRIPTION:ANGA COM is Europe’s leading business platform for broadband operators and content providers. Exhibition and conference programme address network operators\, vendors\, content providers\, service providers\, consultants\, authorities and other organizations of the telecommunications and media industry. \nDiscover our new products and get in touch with our sales specialists. \nThe expert in the field of CoMeT measurement technology\, Mr. Bernhard Mund\, will also be happy to answer your questions.
URL:https://bda-connectivity.com/en/event/angacom-2024/
LOCATION:Messe Köln\, Deutz-Mülheimer Straße 35\, Köln\, 50679\, Deutschland
CATEGORIES:Fairs
ATTACH;FMTTYPE=image/jpeg:https://bda-connectivity.com/wp-content/uploads/2022/04/anga_647_485.jpg
ORGANIZER;CN="ANGA Services GmbH":MAILTO:info@angacom.de
END:VEVENT
BEGIN:VEVENT
DTSTART;TZID=Europe/Berlin:20240312T090000
DTEND;TZID=Europe/Berlin:20240314T160000
DTSTAMP:20260424T123258
CREATED:20240207T102328Z
LAST-MODIFIED:20240207T150338Z
UID:10657-1710234000-1710432000@bda-connectivity.com
SUMMARY:EMV 2024
DESCRIPTION:From 12 – 14 March 2024\, the trade fair EMV with conference on the subject of electromagnetic compatibility\, will take place in Cologne again! \nbda connectivity will be present at EMV. Our experts in the field of CoMeT measurement technology\, Mr. Bernhard Mund and Mr. Ralf Damm\, will be happy to answer your questions.
URL:https://bda-connectivity.com/en/event/emv-2024/
LOCATION:Messe Köln\, Deutz-Mülheimer Straße 35\, Köln\, 50679\, Deutschland
CATEGORIES:Fairs
ATTACH;FMTTYPE=image/jpeg:https://bda-connectivity.com/wp-content/uploads/2024/02/emv-e1709128368893.jpg
END:VEVENT
BEGIN:VEVENT
DTSTART;VALUE=DATE:20231114
DTEND;VALUE=DATE:20231118
DTSTAMP:20260424T123258
CREATED:20231030T133007Z
LAST-MODIFIED:20231030T135946Z
UID:10550-1699920000-1700265599@bda-connectivity.com
SUMMARY:productronica 2023
DESCRIPTION:Productronica is renowned as the world’s leading trade fair for presenting the entire range of technologies and solutions for electronics manufacturing. It offers deep insights into the latest trends in the industry through practical forums and live demonstrations. Every two years\, the world of electronics manufacturing comes together in Munich\, and exhibitors and visitors from all over the world make Productronica the most important meeting place and source of inspiration for the industry. \nVisit us at Productronica 2023 in hall B4 at booth 429 !
URL:https://bda-connectivity.com/en/event/productronica-2023/
LOCATION:Messe München\, München\, Deutschland
CATEGORIES:Fairs
ATTACH;FMTTYPE=image/png:https://bda-connectivity.com/wp-content/uploads/2023/10/productronica23-Welcome-468x60-E2-1.png
ORGANIZER;CN="Messe M%C3%BCnchen":MAILTO:info@electronica.de
END:VEVENT
BEGIN:VEVENT
DTSTART;VALUE=DATE:20230612
DTEND;VALUE=DATE:20230615
DTSTAMP:20260424T123258
CREATED:20230111T094455Z
LAST-MODIFIED:20230111T094455Z
UID:9612-1686528000-1686787199@bda-connectivity.com
SUMMARY:Congress Connectors 2023
DESCRIPTION:The Connector Congress in Würzburg takes a practice-oriented look at technical aspects of the design and use of modern connectors. In practical workshops\, top-class experts impart electrotechnical basics\, specific know-how and help with the selection of the right connector.\nThe congress is a unique event in Europe\, dedicated to the topics of connector design\, design-in\, materials\, qualification and use of connectors. \nbda connectivity will be present with a presentation and a booth; Mr. Bernhard Mund will give a presentation during this event.
URL:https://bda-connectivity.com/en/event/congress-connectors-2023/
LOCATION:VCC Würzburg\, Max-Planck-Str. 7/9\, Würzburg\, 97082\, Deutschland
CATEGORIES:Congress,Fairs
ATTACH;FMTTYPE=image/jpeg:https://bda-connectivity.com/wp-content/uploads/2020/08/steckerkongress.jpg
END:VEVENT
BEGIN:VEVENT
DTSTART;VALUE=DATE:20230523
DTEND;VALUE=DATE:20230526
DTSTAMP:20260424T123258
CREATED:20230111T093657Z
LAST-MODIFIED:20230111T093657Z
UID:9608-1684800000-1685059199@bda-connectivity.com
SUMMARY:AngaCom 2023
DESCRIPTION:ANGA COM is Europe’s leading business platform for broadband operators and content providers. Exhibition and conference programme address network operators\, vendors\, content providers\, service providers\, consultants\, authorities and other organizations of the telecommunications and media industry. \nDiscover our new products and get in touch with our sales specialists. \nThe expert in the field of CoMeT measurement technology\, Mr. Bernhard Mund\, will also be happy to answer your questions.
URL:https://bda-connectivity.com/en/event/angacom-2023/
LOCATION:KoelnMesse\, Messeplatz 1\, Köln\, 50679\, Deutschland
CATEGORIES:Fairs
ATTACH;FMTTYPE=image/jpeg:https://bda-connectivity.com/wp-content/uploads/2022/04/anga_647_485.jpg
ORGANIZER;CN="ANGA Services GmbH":MAILTO:info@angacom.de
END:VEVENT
BEGIN:VEVENT
DTSTART;VALUE=DATE:20230328
DTEND;VALUE=DATE:20230331
DTSTAMP:20260424T123258
CREATED:20230111T090755Z
LAST-MODIFIED:20230111T090755Z
UID:9599-1679961600-1680220799@bda-connectivity.com
SUMMARY:EMV 2023
DESCRIPTION:From March 28 to 30\, 2023\, the EMV fair\, Europe’s most important trade fair and congress on this subject\, offers a comprehensive overview of the latest trends and developments in the field of electromagnetic compatibility. The fair takes place in Stuttgart. \nbda connectivity will be present at EMV. Our expert in the field of CoMeT measurement technology\, Mr. Bernhard Mund\, will be happy to answer your questions.
URL:https://bda-connectivity.com/en/event/emv-2023/
LOCATION:Messe Stuttgart\, Messepiazza 1\, Stuttgart\, 70629\, Deutschland
CATEGORIES:Fairs
ATTACH;FMTTYPE=image/jpeg:https://bda-connectivity.com/wp-content/uploads/2019/08/web_logo_emv.jpg
END:VEVENT
BEGIN:VEVENT
DTSTART;VALUE=DATE:20230227
DTEND;VALUE=DATE:20230303
DTSTAMP:20260424T123258
CREATED:20230111T092342Z
LAST-MODIFIED:20230111T092342Z
UID:9603-1677456000-1677801599@bda-connectivity.com
SUMMARY:MWC 2023 in Barcelona
DESCRIPTION:Mobile World Congress (MWC) in Barcelona is the world’s most influential event for the connectivity industry. It’s where world-leading companies and trailblazers share the latest thought leadership about the progression and future of connectivity. And it’s the best place for networking opportunities with mobile and tech industry influencers. \nbda connectivity can be found in hall 7A at booth 7A69 (Hessian joint booth).
URL:https://bda-connectivity.com/en/event/mwc-2023-in-barcelona/
LOCATION:Fira Gran Via\, Av. Joan Carles I\, 64\, L'Hospitalet de Llobregat\, Barcelona\, 08908\, Spanien
CATEGORIES:Fairs
ATTACH;FMTTYPE=image/png:https://bda-connectivity.com/wp-content/uploads/2021/12/MWC-Barcelona-Logo-RGB_colour-undated.png
END:VEVENT
BEGIN:VEVENT
DTSTART;VALUE=DATE:20221115
DTEND;VALUE=DATE:20221119
DTSTAMP:20260424T123258
CREATED:20220225T122818Z
LAST-MODIFIED:20241017T113850Z
UID:8293-1668470400-1668815999@bda-connectivity.com
SUMMARY:electronica 2022
DESCRIPTION:electronica in Munich is the world’s leading trade fair for electronic components\, systems\, applications and solutions. It is the international meeting place for the industry and thus inspires as an excellent business platform\, efficient networking event\, technical product show and forum for professional exchange at the highest level. \nelectronica is a showcase for innovations and trends: it reflects the status quo and provides an outlook for the future. As a think tank\, it gives decision-makers\, engineers and developers the decisive impetus they need.
URL:https://bda-connectivity.com/en/event/electronica-2022/
LOCATION:Messe München\, München\, Deutschland
CATEGORIES:Fairs
ATTACH;FMTTYPE=image/jpeg:https://bda-connectivity.com/wp-content/uploads/2019/12/electronica_647x485.jpg
ORGANIZER;CN="Messe M%C3%BCnchen":MAILTO:info@electronica.de
END:VEVENT
BEGIN:VEVENT
DTSTART;VALUE=DATE:20221108
DTEND;VALUE=DATE:20221111
DTSTAMP:20260424T123258
CREATED:20220225T121208Z
LAST-MODIFIED:20220225T121208Z
UID:8288-1667865600-1668124799@bda-connectivity.com
SUMMARY:SPS 2022
DESCRIPTION:SPS 2022 is the international trade fair in the field of industrial automation and the annual highlight of the automation industry. With its unique concept\, it represents the complete spectrum of smart and digital automation – from simple sensors to intelligent solutions\, from what is feasible today to the vision of a comprehensively digitized industrial world.
URL:https://bda-connectivity.com/en/event/sps-2022/
LOCATION:NürnbergMesse\, Messeplatz 1\, Nürnberg\, 90471\, Deutschland
CATEGORIES:Fairs
ATTACH;FMTTYPE=image/jpeg:https://bda-connectivity.com/wp-content/uploads/2019/12/SPS_647x485.jpg
END:VEVENT
BEGIN:VEVENT
DTSTART;VALUE=DATE:20220906
DTEND;VALUE=DATE:20220910
DTSTAMP:20260424T123258
CREATED:20190813T150854Z
LAST-MODIFIED:20220225T102251Z
UID:1367-1662422400-1662767999@bda-connectivity.com
SUMMARY:SMM 2022
DESCRIPTION:SMM is the place where the maritime industry meets to find answers to the challenges of today and tomorrow. Its aim of providing orientation is realised on more than 90\,000 m2 of exhibition space and in a whole series of top-class specialist conferences. More than 2\,200 exhibitors from 67 countries\, including 29 national pavilions\, and around 50\,000 visitors from 125 nations made SMM 2018 the industry’s most important event.
URL:https://bda-connectivity.com/en/event/fair-smm/
LOCATION:HamburgMesse\, Messeplatz 1\, Hamburg\, 20357\, Deutschland
CATEGORIES:Fairs
ATTACH;FMTTYPE=image/jpeg:https://bda-connectivity.com/wp-content/uploads/2019/08/web_logo_smm.jpg
END:VEVENT
BEGIN:VEVENT
DTSTART;VALUE=DATE:20220712
DTEND;VALUE=DATE:20220715
DTSTAMP:20260424T123258
CREATED:20190813T150500Z
LAST-MODIFIED:20220225T120804Z
UID:1364-1657584000-1657843199@bda-connectivity.com
SUMMARY:EMV 2022
DESCRIPTION:From 12th to 14th July 2022\, EMV fair in Cologne\, Europe’s most important trade fair and congress on this subject\, offers a comprehensive overview of the latest trends and developments in the field of electromagnetic compatibility. \nbda connectivity will be present at EMV. Our expert in the field of CoMeT measurement technology\, Mr. Bernhard Mund\, will be happy to answer your questions.
URL:https://bda-connectivity.com/en/event/fair-emv/
LOCATION:KoelnMesse\, Messeplatz 1\, Köln\, 50679\, Deutschland
CATEGORIES:Fairs
ATTACH;FMTTYPE=image/jpeg:https://bda-connectivity.com/wp-content/uploads/2019/08/web_logo_emv.jpg
END:VEVENT
BEGIN:VEVENT
DTSTART;VALUE=DATE:20220704
DTEND;VALUE=DATE:20220708
DTSTAMP:20260424T123258
CREATED:20220503T112701Z
LAST-MODIFIED:20220503T112701Z
UID:8400-1656900000-1657159199@bda-connectivity.com
SUMMARY:Congress Connectors 2022
DESCRIPTION:The Connector Congress in Würzburg takes a practice-oriented look at technical aspects of the design and use of modern connectors. In practical workshops\, top-class experts impart electrotechnical basics\, specific know-how and help with the selection of the right connector.\nThe congress is a unique event in Europe\, dedicated to the topics of connector design\, design-in\, materials\, qualification and use of connectors. \nbda connectivity will be present with a presentation and a booth; Mr. Bernhard Mund will give a presentation on EMC of SPE connectors and connecting cables on Monday at 5 pm.
URL:https://bda-connectivity.com/en/event/congress-connectors-2022/
LOCATION:VCC Würzburg\, Max-Planck-Str. 7/9\, Würzburg\, 97082\, Deutschland
ATTACH;FMTTYPE=image/jpeg:https://bda-connectivity.com/wp-content/uploads/2020/02/LogoSteckerkongress.jpg
END:VEVENT
BEGIN:VEVENT
DTSTART;VALUE=DATE:20220628
DTEND;VALUE=DATE:20220630
DTSTAMP:20260424T123258
CREATED:20220503T113404Z
LAST-MODIFIED:20220503T113404Z
UID:8398-1656381600-1656467999@bda-connectivity.com
SUMMARY:TAE Colloquium Future Mobility
DESCRIPTION:TAE is organizing a colloquium on “Future Mobility” in June; in Stuttgart and online. \nMr. Berndhard Mund together with Dr. Gneiting will present a paper on EMC of high voltage connection components in electric vehicles.
URL:https://bda-connectivity.com/en/event/tae-colloquium-future-mobility/
LOCATION:TAE Ostfildern\, An der Akademie 5\, Ostfildern\, 73760\, Deutschland
CATEGORIES:Congress
ATTACH;FMTTYPE=image/jpeg:https://bda-connectivity.com/wp-content/uploads/2022/05/TAE-Logo1-1.jpg
ORGANIZER;CN="TAE Ostfildern":MAILTO:info@tae.de
END:VEVENT
BEGIN:VEVENT
DTSTART;VALUE=DATE:20220524
DTEND;VALUE=DATE:20220527
DTSTAMP:20260424T123258
CREATED:20220225T095814Z
LAST-MODIFIED:20220225T095814Z
UID:8270-1653350400-1653609599@bda-connectivity.com
SUMMARY:SPS Italia
DESCRIPTION:The next edition of SPS Italia\, the reference fair for the smart and digital automation\, will take place in Parma from 24 to 26 May 2022 \nSPS Italia is the highlight event for the intelligent\, digital and flexible industry. Founded in 2011\, the Fair is the annual appointment to discuss the most challenging issues of tomorrow’s industry\, recognized as a reference point for the Italian manufacturing sector.
URL:https://bda-connectivity.com/en/event/sps-italia/
LOCATION:Fiere di Parma\, Viale Delle Esposizioni\, 393a\, Parma\, PR\, 43126\, Italien
CATEGORIES:Fairs
ATTACH;FMTTYPE=image/jpeg:https://bda-connectivity.com/wp-content/uploads/2019/12/SPS_647x485.jpg
END:VEVENT
BEGIN:VEVENT
DTSTART;VALUE=DATE:20220510
DTEND;VALUE=DATE:20220513
DTSTAMP:20260424T123258
CREATED:20211209T125535Z
LAST-MODIFIED:20220225T122353Z
UID:6349-1652140800-1652399999@bda-connectivity.com
SUMMARY:AngaCom 2022
DESCRIPTION:ANGA COM is Europe’s leading business platform for broadband operators and content providers. Exhibition and conference programme address network operators\, vendors\, content providers\, service providers\, consultants\, authorities and other organizations of the telecommunications and media industry. \nDiscover our new products and get in touch with our sales specialists. \nThe expert in the field of CoMeT measurement technology\, Mr. Bernhard Mund\, will also be happy to answer your questions.
URL:https://bda-connectivity.com/en/event/fair-angacom-2/
LOCATION:KoelnMesse\, Messeplatz 1\, Köln\, 50679\, Deutschland
CATEGORIES:Fairs
ATTACH;FMTTYPE=image/jpeg:https://bda-connectivity.com/wp-content/uploads/2019/08/web_logo_angacom.jpg
END:VEVENT
BEGIN:VEVENT
DTSTART;TZID=Europe/Berlin:20220228T080000
DTEND;TZID=Europe/Berlin:20220303T170000
DTSTAMP:20260424T123258
CREATED:20211209T132557Z
LAST-MODIFIED:20220222T075602Z
UID:6362-1646035200-1646326800@bda-connectivity.com
SUMMARY:MWC Barcelona
DESCRIPTION:MWC Barcelona is the world’s most influential event for the connectivity industry. It’s where world-leading companies and trailblazers share the latest thought leadership about the progression and future of connectivity. And it’s the best place for networking opportunities with mobile and tech industry influencers.
URL:https://bda-connectivity.com/en/event/mwc-barcelona/
LOCATION:Fira Gran Via\, Av. Joan Carles I\, 64\, L'Hospitalet de Llobregat\, Barcelona\, 08908\, Spanien
CATEGORIES:Fairs
ATTACH;FMTTYPE=image/png:https://bda-connectivity.com/wp-content/uploads/2021/12/MWC-Barcelona-Logo-RGB_colour-undated.png
END:VEVENT
BEGIN:VEVENT
DTSTART;VALUE=DATE:20211116
DTEND;VALUE=DATE:20211120
DTSTAMP:20260424T123258
CREATED:20210729T072730Z
LAST-MODIFIED:20220222T075549Z
UID:6120-1637020800-1637366399@bda-connectivity.com
SUMMARY:productronica 2021
DESCRIPTION:At no other trade fair will you find the world market of electronics manufacturing presented as comprehensively as at productronica. Every two years\, it brings together the “Who’s Who” of the industry in Munich for a unique showcase – with innovative solutions and products for the entire value chain of electronics manufacturing. bda connectivity can be found at booth B4.213 in hall B4.
URL:https://bda-connectivity.com/en/event/productronica-2021/
LOCATION:Messe München\, München\, Deutschland
CATEGORIES:Fairs
ATTACH;FMTTYPE=image/jpeg:https://bda-connectivity.com/wp-content/uploads/2019/08/productronica_logolett_rgb.jpg
ORGANIZER;CN="Messe M%C3%BCnchen":MAILTO:info@electronica.de
END:VEVENT
BEGIN:VEVENT
DTSTART;VALUE=DATE:20210915
DTEND;VALUE=DATE:20210917
DTSTAMP:20260424T123258
CREATED:20210729T075738Z
LAST-MODIFIED:20210729T075738Z
UID:6135-1631664000-1631836799@bda-connectivity.com
SUMMARY:Broadband Congress of the FRK 2021
DESCRIPTION:Traditionally\, the industry meeting of the Broadband Congress 2021 is held for medium-sized and municipal companies\, broadband network operators\, manufacturers and service providers for gigabit networks\, TV providers\, investors\, politics\, business\, media. The Broadband Congress will take place from September 15 to 16\, 2021 at the H4 Hotel in Leipzig\, Paunsdorf for experts and interested parties. \nbda connectivity will be on site and happy to talk to you. We are looking forward to meeting you!
URL:https://bda-connectivity.com/en/event/broadband-congress-of-the-frk-2021/
LOCATION:Leipzig H4 Hotel\, Schongauer Str. 39\, Leipzig\, Sachsen\, 04329\, Deutschland
CATEGORIES:Congress
ATTACH;FMTTYPE=image/jpeg:https://bda-connectivity.com/wp-content/uploads/2020/02/FRK2-e1627545713948.jpg
END:VEVENT
BEGIN:VEVENT
DTSTART;VALUE=DATE:20210907
DTEND;VALUE=DATE:20210909
DTSTAMP:20260424T123258
CREATED:20210729T074624Z
LAST-MODIFIED:20210729T074624Z
UID:6128-1630972800-1631145599@bda-connectivity.com
SUMMARY:Connector Congress 2021
DESCRIPTION:The Connector Congress in Würzburg takes a practice-oriented look at technical aspects of the design and use of modern connectors. In practical workshops\, top-class experts impart electrotechnical basics\, specific know-how and help with the selection of the right connector.\nThe congress is a unique event in Europe\, dedicated to the topics of connector design\, design-in\, materials\, qualification and use of connectors. \nbda connectivity will be present with a presentation and a booth\, together with our partner Admos.
URL:https://bda-connectivity.com/en/event/connector-congress-2021/
LOCATION:VCC Würzburg\, Max-Planck-Str. 7/9\, Würzburg\, 97082\, Deutschland
CATEGORIES:Congress
ATTACH;FMTTYPE=image/jpeg:https://bda-connectivity.com/wp-content/uploads/2020/02/LogoSteckerkongress.jpg
END:VEVENT
BEGIN:VEVENT
DTSTART;VALUE=DATE:20210608
DTEND;VALUE=DATE:20210611
DTSTAMP:20260424T123258
CREATED:20190813T150635Z
LAST-MODIFIED:20220222T075515Z
UID:1365-1623110400-1623369599@bda-connectivity.com
SUMMARY:Fair ANGACOM
DESCRIPTION:ANGA COM is Europe’s leading business platform for broadband operators and content providers. Exhibition and conference programme address network operators\, vendors\, content providers\, service providers\, consultants\, authorities and other organizations of the telecommunications and media industry. \nbda connectivity can be found at the ANGA COM in hall 8\, booth K13. \nDiscover our new products and get in touch with our sales specialists. \nThe expert in the field of CoMeT measurement technology\, Mr. Bernhard Mund\, will also be happy to answer your questions.
URL:https://bda-connectivity.com/en/event/fair-angacom/
LOCATION:KoelnMesse\, Messeplatz 1\, Köln\, 50679\, Deutschland
CATEGORIES:Fairs
ATTACH;FMTTYPE=image/jpeg:https://bda-connectivity.com/wp-content/uploads/2019/08/web_logo_angacom.jpg
END:VEVENT
BEGIN:VEVENT
DTSTART;VALUE=DATE:20201110
DTEND;VALUE=DATE:20201114
DTSTAMP:20260424T123258
CREATED:20191202T084801Z
LAST-MODIFIED:20220222T075449Z
UID:2187-1604966400-1605311999@bda-connectivity.com
SUMMARY:electronica 2020
DESCRIPTION:electronica in Munich is the world’s leading trade fair for electronic components\, systems\, applications and solutions. It is the international meeting place for the industry and thus inspires as an excellent business platform\, efficient networking event\, technical product show and forum for professional exchange at the highest level. \nelectronica is a showcase for innovations and trends: it reflects the status quo and provides an outlook for the future. As a think tank\, it gives decision-makers\, engineers and developers the decisive impetus they need.
URL:https://bda-connectivity.com/en/event/electronica-2020/
LOCATION:Messe München\, München\, Deutschland
CATEGORIES:Fairs
ATTACH;FMTTYPE=image/jpeg:https://bda-connectivity.com/wp-content/uploads/2019/12/electronica_647x485.jpg
ORGANIZER;CN="Messe M%C3%BCnchen":MAILTO:info@electronica.de
END:VEVENT
BEGIN:VEVENT
DTSTART;VALUE=DATE:20200929
DTEND;VALUE=DATE:20201002
DTSTAMP:20260424T123258
CREATED:20190813T150803Z
LAST-MODIFIED:20220222T075534Z
UID:1366-1601337600-1601596799@bda-connectivity.com
SUMMARY:Fair CommunicAsia
DESCRIPTION:The umbrella platform encompasses 3 trade events that connect businesses with developments in Communication\, Broadcast & Enterprise Technology/Services in Asia. \nCommunicAsia is the largest integrated ICT event where decision makers\, key influencers and thought leaders gather to learn about the latest technological innovations\, address critical issues\, and be updated in emerging market trends.
URL:https://bda-connectivity.com/en/event/fair-communicasia/
LOCATION:CommunicAsia\, Singapur\, Singapur
CATEGORIES:Fairs
ATTACH;FMTTYPE=image/jpeg:https://bda-connectivity.com/wp-content/uploads/2019/08/web_logo_CommunicAsia.jpg
END:VEVENT
BEGIN:VEVENT
DTSTART;VALUE=DATE:20200928
DTEND;VALUE=DATE:20200930
DTSTAMP:20260424T123258
CREATED:20200219T143940Z
LAST-MODIFIED:20200403T064814Z
UID:2638-1601251200-1601423999@bda-connectivity.com
SUMMARY:23rd Broadband Congress
DESCRIPTION:Traditionally\, the industry meeting of the Broadband Congress 2020 is held for medium-sized and municipal companies\, broadband network operators\, manufacturers and service providers for gigabit networks\, TV providers\, investors\, politics\, business and media. The Broadband Congress will take place from 28 to 29 September 2020 at the H4 Hotel in Leipzig\, Paunsdorf for experts and interested parties. \nbda connectivity will be on site and will be happy to talk to you. We are looking forward to meeting you!
URL:https://bda-connectivity.com/en/event/23rd-broadband-congress/
LOCATION:Leipzig\, Schongauer Str. 39\, Leipzig\, 04329\, Deutschland
CATEGORIES:Congress
ATTACH;FMTTYPE=image/jpeg:https://bda-connectivity.com/wp-content/uploads/2020/02/FRK2-e1627545713948.jpg
END:VEVENT
BEGIN:VEVENT
DTSTART;VALUE=DATE:20200907
DTEND;VALUE=DATE:20200910
DTSTAMP:20260424T123258
CREATED:20200609T091018Z
LAST-MODIFIED:20200609T091018Z
UID:3814-1599436800-1599695999@bda-connectivity.com
SUMMARY:14th Connectors Congress
DESCRIPTION:The 14th User Congress on Connectors in Würzburg will highlight practical technical aspects of the design and use of modern connectors. In practical workshops\, high-calibre experts will impart basic electrical engineering principles\, specific know-how and help to select the right connector.The congress is a unique event in Europe\, which is dedicated to the topics of connector design\, design-in\, materials\, qualification and use of connectors. \nbda connectivity will be present on site with a lecture and a booth\, together with our partner Admos.
URL:https://bda-connectivity.com/en/event/14th-connectors-congress/
LOCATION:VCC Würzburg\, Max-Planck-Str. 7/9\, Würzburg\, 97082\, Deutschland
CATEGORIES:Congress
ATTACH;FMTTYPE=image/jpeg:https://bda-connectivity.com/wp-content/uploads/2020/02/LogoSteckerkongress.jpg
END:VEVENT
BEGIN:VEVENT
DTSTART;TZID=Europe/Berlin:20200629T080000
DTEND;TZID=Europe/Berlin:20200701T170000
DTSTAMP:20260424T123258
CREATED:20200217T140410Z
LAST-MODIFIED:20200217T142201Z
UID:2546-1593417600-1593622800@bda-connectivity.com
SUMMARY:CONNECTORS USER CONGRESS
DESCRIPTION:The 14th User Congress on Connectors in Würzburg will highlight practical technical aspects of the design and use of modern connectors. In practical workshops\, high-calibre experts will impart basic electrical engineering principles\, specific know-how and help to select the right connector.The congress is a unique event in Europe\, which is dedicated to the topics of connector design\, design-in\, materials\, qualification and use of connectors. \nbda connectivity will be present on site with a lecture and a booth\, together with our partner Admos.
URL:https://bda-connectivity.com/en/event/anwenderkongress-steckverbinder/
LOCATION:VCC Vogel Convention Center\, Max-Planck-Str. 7/9\, Würzburg\, Bayern\, 97082\, Deutschland
CATEGORIES:Congress
ATTACH;FMTTYPE=image/jpeg:https://bda-connectivity.com/wp-content/uploads/2020/02/LogoSteckerkongress.jpg
END:VEVENT
END:VCALENDAR