BEGIN:VCALENDAR
VERSION:2.0
PRODID:-//bda connectivity GmbH - ECPv6.10.2//NONSGML v1.0//EN
CALSCALE:GREGORIAN
METHOD:PUBLISH
X-WR-CALNAME:bda connectivity GmbH
X-ORIGINAL-URL:https://bda-connectivity.com/en/
X-WR-CALDESC:Events for bda connectivity GmbH
REFRESH-INTERVAL;VALUE=DURATION:PT1H
X-Robots-Tag:noindex
X-PUBLISHED-TTL:PT1H
BEGIN:VTIMEZONE
TZID:Europe/Berlin
BEGIN:DAYLIGHT
TZOFFSETFROM:+0100
TZOFFSETTO:+0200
TZNAME:CEST
DTSTART:20250330T010000
END:DAYLIGHT
BEGIN:STANDARD
TZOFFSETFROM:+0200
TZOFFSETTO:+0100
TZNAME:CET
DTSTART:20251026T010000
END:STANDARD
END:VTIMEZONE
BEGIN:VEVENT
DTSTART;VALUE=DATE:20250603
DTEND;VALUE=DATE:20250606
DTSTAMP:20260424T125551
CREATED:20250502T104724Z
LAST-MODIFIED:20250502T104724Z
UID:11402-1748908800-1749167999@bda-connectivity.com
SUMMARY:AngaCom 2025
DESCRIPTION:This year\, bda connectivity will once again be exhibiting at ANGA COM – Europe’s leading trade fair for broadband\, television and online. \nFrom 3 – 5 June 2025\, we will be presenting solutions and products in the fields of high-frequency technology\, measurement technology and connectivity for the communications infrastructure in Hall 7\, Stand 20. \nANGA COM is the central meeting place for network operators\, technology providers and content providers. We look forward to talking to you on site and discussing future-proof network solutions together. \nVisit us in Cologne – we look forward to seeing you!
URL:https://bda-connectivity.com/en/event/angacom-2025/
LOCATION:Messe Köln\, Deutz-Mülheimer Straße 35\, Köln\, 50679\, Deutschland
CATEGORIES:Fairs
ATTACH;FMTTYPE=image/jpeg:https://bda-connectivity.com/wp-content/uploads/2022/04/anga_647_485.jpg
ORGANIZER;CN="ANGA Services GmbH":MAILTO:info@angacom.de
END:VEVENT
END:VCALENDAR