BEGIN:VCALENDAR
VERSION:2.0
PRODID:-//bda connectivity GmbH - ECPv6.10.2//NONSGML v1.0//EN
CALSCALE:GREGORIAN
METHOD:PUBLISH
X-ORIGINAL-URL:https://bda-connectivity.com/en/
X-WR-CALDESC:Events for bda connectivity GmbH
REFRESH-INTERVAL;VALUE=DURATION:PT1H
X-Robots-Tag:noindex
X-PUBLISHED-TTL:PT1H
BEGIN:VTIMEZONE
TZID:Europe/Berlin
BEGIN:DAYLIGHT
TZOFFSETFROM:+0100
TZOFFSETTO:+0200
TZNAME:CEST
DTSTART:20230326T010000
END:DAYLIGHT
BEGIN:STANDARD
TZOFFSETFROM:+0200
TZOFFSETTO:+0100
TZNAME:CET
DTSTART:20231029T010000
END:STANDARD
END:VTIMEZONE
BEGIN:VEVENT
DTSTART;VALUE=DATE:20231114
DTEND;VALUE=DATE:20231118
DTSTAMP:20260425T012128
CREATED:20231030T133007Z
LAST-MODIFIED:20231030T135946Z
UID:10550-1699920000-1700265599@bda-connectivity.com
SUMMARY:productronica 2023
DESCRIPTION:Productronica is renowned as the world’s leading trade fair for presenting the entire range of technologies and solutions for electronics manufacturing. It offers deep insights into the latest trends in the industry through practical forums and live demonstrations. Every two years\, the world of electronics manufacturing comes together in Munich\, and exhibitors and visitors from all over the world make Productronica the most important meeting place and source of inspiration for the industry. \nVisit us at Productronica 2023 in hall B4 at booth 429 !
URL:https://bda-connectivity.com/en/event/productronica-2023/
LOCATION:Messe München\, München\, Deutschland
CATEGORIES:Fairs
ATTACH;FMTTYPE=image/png:https://bda-connectivity.com/wp-content/uploads/2023/10/productronica23-Welcome-468x60-E2-1.png
ORGANIZER;CN="Messe M%C3%BCnchen":MAILTO:info@electronica.de
END:VEVENT
END:VCALENDAR